BEGIN:VCALENDAR
VERSION:2.0
PRODID:-//Squarespace Inc/Squarespace 6//v6//EN
BEGIN:VEVENT
UID:5cd4d6294785d380d877284c@squarespace.com
DTSTAMP:20190627T013523Z
DTSTART:20190704T041500Z
DTEND:20190704T081500Z
SUMMARY:American-Style Midwinter Christmas Buffet
GEO:-45.907619;170.497685
LOCATION:Equinox Restaurant & Bar\, Forbury Raceway\, 146 Victoria Road\, S
 t Clair\, Dunedin\, New Zealand
END:VEVENT
END:VCALENDAR
