BEGIN:VCALENDAR
VERSION:2.0
PRODID:-//Squarespace Inc/Squarespace 6//v6//EN
BEGIN:VEVENT
UID:5cdd1759eb39314f06e38974@squarespace.com
DTSTAMP:20190611T061457Z
DTSTART:20190621T054500Z
DTEND:20190707T054500Z
SUMMARY:Dine at Larnach Castle
GEO:-45.861622;170.627219
LOCATION:Larnach Castle\, 45 Camp Road\, Larnachs Castle\, OTA\, 9077\, New 
 Zealand
END:VEVENT
END:VCALENDAR
