BEGIN:VCALENDAR
VERSION:2.0
PRODID:-//Squarespace Inc/Squarespace 6//v6//EN
BEGIN:VEVENT
UID:5cddd30d09609e0001309339@squarespace.com
DTSTAMP:20190529T224158Z
DTSTART:20190620T184500Z
DTEND:20190620T201500Z
SUMMARY:Dine Dunedin Opening Breakfast with Nova and Harraways
GEO:-45.87876;170.502798
LOCATION:The Lower Octagon\, Dunedin\, New Zealand
END:VEVENT
END:VCALENDAR
