BEGIN:VCALENDAR
VERSION:2.0
PRODID:-//Squarespace Inc/Squarespace 6//v6//EN
BEGIN:VEVENT
UID:5cca6fdca49df300012acabe@squarespace.com
DTSTAMP:20190529T232154Z
DTSTART:20190621T041500Z
DTEND:20190707T071500Z
SUMMARY:Equinox Dine Dunedin Deal 
GEO:-45.907983;170.498888
LOCATION:Equinox Restaurant & Bar\, 146 Victoria Road\, Dunedin
END:VEVENT
END:VCALENDAR
