BEGIN:VCALENDAR
VERSION:2.0
PRODID:-//Squarespace Inc/Squarespace 6//v6//EN
BEGIN:VEVENT
UID:5ceb1ac99b747a2124fb1769@squarespace.com
DTSTAMP:20190605T083324Z
DTSTART:20190621T021500Z
DTEND:20190707T051500Z
SUMMARY:Esplanade 'Aperitivo' 
GEO:-45.911607;170.49009
LOCATION:Esplanade\, 2 Esplanade\, Dunedin\, OTA\, 9012\, New Zealand
END:VEVENT
END:VCALENDAR
