BEGIN:VCALENDAR
VERSION:2.0
PRODID:-//Squarespace Inc/Squarespace 6//v6//EN
BEGIN:VEVENT
UID:5ce75ea78165f54e73bebf74@squarespace.com
DTSTAMP:20190612T220555Z
DTSTART:20190621T054500Z
DTEND:20190621T084500Z
SUMMARY:Green Heaven at Glenfalloch
GEO:-45.874744;170.585428
LOCATION:Glenfalloch\, 430 Portobello Road\, Dunedin\, OTA\, 9077\, New Zea
 land
END:VEVENT
END:VCALENDAR
