BEGIN:VCALENDAR
VERSION:2.0
PRODID:-//Squarespace Inc/Squarespace 6//v6//EN
BEGIN:VEVENT
UID:5cede6364785d3b009120fe9@squarespace.com
DTSTAMP:20190529T224335Z
DTSTART:20190703T051500Z
DTEND:20190703T084500Z
SUMMARY:Zero\, My Hero by KiwiHarvest 
GEO:-45.87036;170.516727
LOCATION:Emerson's Brewery\, 70 Anzac Avenue\, Dunedin\, OTA\, 9016\, New Z
 ealand
END:VEVENT
END:VCALENDAR
