BEGIN:VCALENDAR
VERSION:2.0
PRODID:-//Squarespace Inc/Squarespace 6//v6//EN
BEGIN:VEVENT
UID:5cee144b53450a39411b5233@squarespace.com
DTSTAMP:20190612T041400Z
DTSTART:20190627T054500Z
DTEND:20190627T084500Z
SUMMARY:Moiety and Cucina Dine Dunedin Degustation
GEO:-45.878372;170.504299
LOCATION:Moiety\, 42 Queens Gardens\, Dunedin\, OTA\, 9016\, New Zealand
END:VEVENT
END:VCALENDAR
