BEGIN:VCALENDAR
VERSION:2.0
PRODID:-//Squarespace Inc/Squarespace 6//v6//EN
BEGIN:VEVENT
UID:5cdd109c612789000148bda5@squarespace.com
DTSTAMP:20190529T224445Z
DTSTART:20190706T031500Z
DTEND:20190706T101500Z
SUMMARY:Noisy Brewing Company Tap Takeover at Sessions Bar
GEO:-45.876229;170.502221
LOCATION:Sessions Bar\, 138 Princes Street\, Dunedin\, OTA\, 9016\, New Zea
 land
END:VEVENT
END:VCALENDAR
