BEGIN:VCALENDAR
VERSION:2.0
PRODID:-//Squarespace Inc/Squarespace 6//v6//EN
BEGIN:VEVENT
UID:5cdd25a46dcdc7000151932b@squarespace.com
DTSTAMP:20190529T223045Z
DTSTART:20190623T041500Z
DTEND:20190703T081500Z
SUMMARY:Nova Cafe Dine Dunedin Dinner Deal
GEO:-45.874538;170.502736
LOCATION:Nova Dunedin\, 29 The Octagon\, Dunedin\, OTA\, 9016\, New Zealand
END:VEVENT
END:VCALENDAR
