BEGIN:VCALENDAR
VERSION:2.0
PRODID:-//Squarespace Inc/Squarespace 6//v6//EN
BEGIN:VEVENT
UID:5ccbac86085229b8413b9337@squarespace.com
DTSTAMP:20190617T075754Z
DTSTART:20190705T043000Z
DTEND:20190705T054500Z
SUMMARY:OCHO Chocolate and NZ Whisky Tasting
GEO:-45.881946;170.505803
LOCATION:Ocho\, 10 Roberts Street\, Dunedin\, OTA\, 9016\, New Zealand
END:VEVENT
END:VCALENDAR
