BEGIN:VCALENDAR
VERSION:2.0
PRODID:-//Squarespace Inc/Squarespace 6//v6//EN
BEGIN:VEVENT
UID:5cedf01353450a394119d3b7@squarespace.com
DTSTAMP:20190529T224133Z
DTSTART:20190619T184500Z
DTEND:20190620T014500Z
SUMMARY:OCTACAN 2019 – Help us Fill the Gap!
GEO:-45.87876;170.502798
LOCATION:The Lower Octagon\, Dunedin\, New Zealand
END:VEVENT
END:VCALENDAR
