BEGIN:VCALENDAR
VERSION:2.0
PRODID:-//Squarespace Inc/Squarespace 6//v6//EN
BEGIN:VEVENT
UID:5cedef61ec212db8b9edce7d@squarespace.com
DTSTAMP:20190529T222601Z
DTSTART:20190621T041500Z
DTEND:20190705T061500Z
SUMMARY:Ombrellitos Aperitivo Hour
GEO:-45.879111;170.499622
LOCATION:Ombrellitos\, 8 Stafford Street\, Dunedin\, OTA\, 9016\, New Zeala
 nd
END:VEVENT
END:VCALENDAR
