BEGIN:VCALENDAR
VERSION:2.0
PRODID:-//Squarespace Inc/Squarespace 6//v6//EN
BEGIN:VEVENT
UID:5cedc1ee971a180ed654e372@squarespace.com
DTSTAMP:20190529T224313Z
DTSTART:20190627T054500Z
DTEND:20190627T084500Z
SUMMARY:Ombrellitos Wine &amp\; Food Match
GEO:-45.879111;170.499622
LOCATION:Ombrellitos\, 8 Stafford Street\, Dunedin\, OTA\, 9016\, New Zeala
 nd
END:VEVENT
END:VCALENDAR
