BEGIN:VCALENDAR
VERSION:2.0
PRODID:-//Squarespace Inc/Squarespace 6//v6//EN
BEGIN:VEVENT
UID:5cedbfea419202ffd5dd5a93@squarespace.com
DTSTAMP:20190529T223233Z
DTSTART:20190628T211500Z
DTEND:20190705T231500Z
SUMMARY:Ombrellos Bottomless Brunch
GEO:-45.868253;170.510949
LOCATION:Ombrellos\, 10 Clarendon Street\, Dunedin\, OTA\, 9016\, New Zeala
 nd
END:VEVENT
END:VCALENDAR
