BEGIN:VCALENDAR
VERSION:2.0
PRODID:-//Squarespace Inc/Squarespace 6//v6//EN
BEGIN:VEVENT
UID:5cedc020eef1a1850e5edc81@squarespace.com
DTSTAMP:20190529T223105Z
DTSTART:20190624T221500Z
DTEND:20190704T101500Z
SUMMARY:Ombrellos Dine Dunedin Deal
GEO:-45.868253;170.510949
LOCATION:Ombrellos\, 10 Clarendon Street\, Dunedin\, OTA\, 9016\, New Zeala
 nd
END:VEVENT
END:VCALENDAR
