BEGIN:VCALENDAR
VERSION:2.0
PRODID:-//Squarespace Inc/Squarespace 6//v6//EN
BEGIN:VEVENT
UID:5cedfa0fe79c70c34b0f9e3f@squarespace.com
DTSTAMP:20190618T044626Z
DTSTART:20190705T061500Z
DTEND:20190705T084500Z
SUMMARY:Bracken Outlander Dinner
GEO:-45.868986;170.505128
LOCATION:Bracken\, 95 Filleul Street\, Dunedin\, OTA\, 9016\, New Zealand
END:VEVENT
END:VCALENDAR
