BEGIN:VCALENDAR
VERSION:2.0
PRODID:-//Squarespace Inc/Squarespace 6//v6//EN
BEGIN:VEVENT
UID:5cd353cee4966ba94343da97@squarespace.com
DTSTAMP:20190612T220954Z
DTSTART:20190626T051500Z
DTEND:20190626T084500Z
SUMMARY:Outstanding Winner Dinner at Emerson's
GEO:-45.87036;170.516727
LOCATION:Emerson's Brewery\, 70 Anzac Avenue\, Dunedin\, OTA\, 9016\, New Z
 ealand
END:VEVENT
END:VCALENDAR
