BEGIN:VCALENDAR
VERSION:2.0
PRODID:-//Squarespace Inc/Squarespace 6//v6//EN
BEGIN:VEVENT
UID:5cdd225f4785d3098f837a1d@squarespace.com
DTSTAMP:20190607T014859Z
DTSTART:20190620T224500Z
DTEND:20190703T081500Z
SUMMARY:Jizo Poke Bowl Dine Dunedin Deal
GEO:-45.875055;170.502844
LOCATION:Jizo\, 56 Princes Street\, Dunedin\, New Zealand
END:VEVENT
END:VCALENDAR
