BEGIN:VCALENDAR
VERSION:2.0
PRODID:-//Squarespace Inc/Squarespace 6//v6//EN
BEGIN:VEVENT
UID:5cedf64ab208fc97d2671712@squarespace.com
DTSTAMP:20190529T222656Z
DTSTART:20190621T044500Z
DTEND:20190706T091500Z
SUMMARY:Prohibition Smokehouse Zakuski
GEO:-45.874079;170.504431
LOCATION:Prohibition Smokehouse\, 10 The Octagon\, Dunedin\, OTA\, 9016\, N
 ew Zealand
END:VEVENT
END:VCALENDAR
