BEGIN:VCALENDAR
VERSION:2.0
PRODID:-//Squarespace Inc/Squarespace 6//v6//EN
BEGIN:VEVENT
UID:5ccba1ed0d9297405a3de3a6@squarespace.com
DTSTAMP:20190611T225232Z
DTSTART:20190621T034500Z
DTEND:20190621T094500Z
SUMMARY:Riverstone Kitchen Pop-Up at New New New Corporation
GEO:-45.8844;170.498874
LOCATION:New New New Corporation\, 218 Crawford Street\, Dunedin\, OTA\, 90
 16\, New Zealand
END:VEVENT
END:VCALENDAR
