BEGIN:VCALENDAR
VERSION:2.0
PRODID:-//Squarespace Inc/Squarespace 6//v6//EN
BEGIN:VEVENT
UID:5cf77ce0b625b400013e3337@squarespace.com
DTSTAMP:20190612T213941Z
DTSTART:20190628T061500Z
DTEND:20190628T084500Z
SUMMARY:Sabayon and The Daily Coffee Company Collab
GEO:-45.879681;170.500208
LOCATION:The Daily Coffee Co\, 366 Princes Street\, Dunedin\, OTA\, 9016\, 
 New Zealand
END:VEVENT
END:VCALENDAR
