BEGIN:VCALENDAR
VERSION:2.0
PRODID:-//Squarespace Inc/Squarespace 6//v6//EN
BEGIN:VEVENT
UID:5ceb209feef1a12ecedbf449@squarespace.com
DTSTAMP:20190605T082703Z
DTSTART:20190620T184500Z
DTEND:20190706T094500Z
SUMMARY:Sabayon 4-Course Dessert Menu 
GEO:-45.871638;170.504563
LOCATION:Sabayon Dunedin\, 37 Saint Andrew Street\, Dunedin\, OTA\, 9016\, 
 New Zealand
END:VEVENT
END:VCALENDAR
