BEGIN:VCALENDAR
VERSION:2.0
PRODID:-//Squarespace Inc/Squarespace 6//v6//EN
BEGIN:VEVENT
UID:5ce76615085229333975d87c@squarespace.com
DTSTAMP:20190529T224435Z
DTSTART:20190705T054500Z
DTEND:20190705T094500Z
SUMMARY:Seafood South at Glenfalloch
GEO:-45.874744;170.585428
LOCATION:Glenfalloch\, 430 Portobello Road\, Dunedin\, OTA\, 9077\, New Zea
 land
END:VEVENT
END:VCALENDAR
