BEGIN:VCALENDAR
VERSION:2.0
PRODID:-//Squarespace Inc/Squarespace 6//v6//EN
BEGIN:VEVENT
UID:5cdd1453a4222fc4545d25c9@squarespace.com
DTSTAMP:20190529T222106Z
DTSTART:20190621T031500Z
DTEND:20190706T111400Z
SUMMARY:Sessions Bar Platter Deal
GEO:-45.876229;170.502221
LOCATION:Sessions Bar\, 138 Princes Street\, Dunedin\, OTA\, 9016\, New Zea
 land
END:VEVENT
END:VCALENDAR
