BEGIN:VCALENDAR
VERSION:2.0
PRODID:-//Squarespace Inc/Squarespace 6//v6//EN
BEGIN:VEVENT
UID:5ceb15f6e79c7041acc61659@squarespace.com
DTSTAMP:20190619T012229Z
DTSTART:20190704T054500Z
DTEND:20190704T081500Z
SUMMARY:Southern Warmth by the Food Design Institute
GEO:-45.866388;170.519949
LOCATION:Manaaki Restaurant\, 51 Harbour Terrace\, Dunedin\, OTA\, 9016\, N
 ew Zealand
END:VEVENT
END:VCALENDAR
