BEGIN:VCALENDAR
VERSION:2.0
PRODID:-//Squarespace Inc/Squarespace 6//v6//EN
BEGIN:VEVENT
UID:5ceb441de79c7041acc7baa1@squarespace.com
DTSTAMP:20190529T222052Z
DTSTART:20190621T031500Z
DTEND:20190707T061500Z
SUMMARY:Speight's Winter Warmer | Brewery Tour &amp\; Ale House Dinner
GEO:-45.876575;170.500082
LOCATION:Speight's Brewery and Speight's Ale House\, 200 Rattray Street\, D
 unedin\, OTA\, 9016\, New Zealand
END:VEVENT
END:VCALENDAR
