BEGIN:VCALENDAR
VERSION:2.0
PRODID:-//Squarespace Inc/Squarespace 6//v6//EN
BEGIN:VEVENT
UID:5cdd298eb9bf0f00012eb2b0@squarespace.com
DTSTAMP:20190529T222013Z
DTSTART:20190620T231500Z
DTEND:20190703T081500Z
SUMMARY:Stuart St Mac's Brew Bar Dine Dunedin Deal
GEO:-45.87451;170.504256
LOCATION:Stuart St Mac's Brew Bar\, 12 The Octagon\, Dunedin\, OTA\, 9016\, 
 New Zealand
END:VEVENT
END:VCALENDAR
