BEGIN:VCALENDAR
VERSION:2.0
PRODID:-//Squarespace Inc/Squarespace 6//v6//EN
BEGIN:VEVENT
UID:5cedbc7ff4e1fcca662458b1@squarespace.com
DTSTAMP:20190628T023124Z
DTSTART:20190703T054500Z
DTEND:20190703T084500Z
SUMMARY:Syrian Banquet with Chef Abdal
GEO:-45.866905;170.507889
LOCATION:Buster Greens\, 466 George Street\, Dunedin\, OTA\, 9016\, New Zea
 land
END:VEVENT
END:VCALENDAR
