BEGIN:VCALENDAR
VERSION:2.0
PRODID:-//Squarespace Inc/Squarespace 6//v6//EN
BEGIN:VEVENT
UID:5ce7619624a694582f3241e0@squarespace.com
DTSTAMP:20190529T222807Z
DTSTART:20190622T054500Z
DTEND:20190706T094500Z
SUMMARY:Trust the Glenfalloch Chef XXL
GEO:-45.874744;170.585428
LOCATION:Glenfalloch\, 430 Portobello Road\, Dunedin\, OTA\, 9077\, New Zea
 land
END:VEVENT
END:VCALENDAR
