BEGIN:VCALENDAR
VERSION:2.0
PRODID:-//Squarespace Inc/Squarespace 6//v6//EN
BEGIN:VEVENT
UID:5cddd8d7b7431c0001969dc4@squarespace.com
DTSTAMP:20190529T222425Z
DTSTART:20190621T041500Z
DTEND:20190707T081500Z
SUMMARY:Two Fat Stags Dine Dunedin Dinner Deal
GEO:-45.869028;170.597915
LOCATION:Two Fat Stags\, 494 Portobello Road\, Dunedin\, OTA\, 9014\, New Z
 ealand
END:VEVENT
END:VCALENDAR
