BEGIN:VCALENDAR
VERSION:2.0
PRODID:-//Squarespace Inc/Squarespace 6//v6//EN
BEGIN:VEVENT
UID:5ce76b1a71c10b02625b8164@squarespace.com
DTSTAMP:20190611T062823Z
DTSTART:20190622T221500Z
DTEND:20190707T031500Z
SUMMARY:URBN VINO Sunday Sessions with Salchicha
GEO:-45.878372;170.504299
LOCATION:URBN VINO\, 42 Queens Gardens\, Dunedin\, OTA\, 9016\, New Zealand
END:VEVENT
END:VCALENDAR
