BEGIN:VCALENDAR
VERSION:2.0
PRODID:-//Squarespace Inc/Squarespace 6//v6//EN
BEGIN:VEVENT
UID:5cedf1e71905f42f4b8063e5@squarespace.com
DTSTAMP:20190529T222037Z
DTSTART:20190620T231500Z
DTEND:20190707T101500Z
SUMMARY:Vault 21 Dine Dunedin Deal
GEO:-45.874663;170.503856
LOCATION:Vault 21\, 21 The Octagon\, Dunedin\, OTA\, 9016\, New Zealand
END:VEVENT
END:VCALENDAR
